BEGIN:VCALENDAR
VERSION:2.0
PRODID:-//Freiwillige Feuerwehr Weilersbach - ECPv6.15.20//NONSGML v1.0//EN
CALSCALE:GREGORIAN
METHOD:PUBLISH
X-ORIGINAL-URL:https://ffw-weilersbach.de/wordpress
X-WR-CALDESC:Veranstaltungen für Freiwillige Feuerwehr Weilersbach
REFRESH-INTERVAL;VALUE=DURATION:PT1H
X-Robots-Tag:noindex
X-PUBLISHED-TTL:PT1H
BEGIN:VTIMEZONE
TZID:Europe/Berlin
BEGIN:DAYLIGHT
TZOFFSETFROM:+0100
TZOFFSETTO:+0200
TZNAME:CEST
DTSTART:20250330T010000
END:DAYLIGHT
BEGIN:STANDARD
TZOFFSETFROM:+0200
TZOFFSETTO:+0100
TZNAME:CET
DTSTART:20251026T010000
END:STANDARD
BEGIN:DAYLIGHT
TZOFFSETFROM:+0100
TZOFFSETTO:+0200
TZNAME:CEST
DTSTART:20260329T010000
END:DAYLIGHT
BEGIN:STANDARD
TZOFFSETFROM:+0200
TZOFFSETTO:+0100
TZNAME:CET
DTSTART:20261025T010000
END:STANDARD
BEGIN:DAYLIGHT
TZOFFSETFROM:+0100
TZOFFSETTO:+0200
TZNAME:CEST
DTSTART:20270328T010000
END:DAYLIGHT
BEGIN:STANDARD
TZOFFSETFROM:+0200
TZOFFSETTO:+0100
TZNAME:CET
DTSTART:20271031T010000
END:STANDARD
END:VTIMEZONE
BEGIN:VEVENT
DTSTART;TZID=Europe/Berlin:20260110T180000
DTEND;TZID=Europe/Berlin:20260110T233000
DTSTAMP:20260424T114821
CREATED:20251211T170548Z
LAST-MODIFIED:20251211T170548Z
UID:13805-1768068000-1768087800@ffw-weilersbach.de
SUMMARY:Tag der Feuerwehr - Kameradschaftsabend
DESCRIPTION:
URL:https://ffw-weilersbach.de/wordpress/event/tag-der-feuerwehr-kameradschaftsabend
LOCATION:Gasthaus Hubert\, Germany
CATEGORIES:Feste,Versammlung
END:VEVENT
BEGIN:VEVENT
DTSTART;TZID=Europe/Berlin:20260111T081500
DTEND;TZID=Europe/Berlin:20260111T103000
DTSTAMP:20260424T114821
CREATED:20251211T170835Z
LAST-MODIFIED:20251211T170923Z
UID:13809-1768119300-1768127400@ffw-weilersbach.de
SUMMARY:Tag der Feuerwehr - Kirchenparade und Gottesdienst
DESCRIPTION:
URL:https://ffw-weilersbach.de/wordpress/event/tag-der-feuerwehr-kirchenparade
LOCATION:Kirche\, Germany
CATEGORIES:Versammlung
END:VEVENT
BEGIN:VEVENT
DTSTART;TZID=Europe/Berlin:20260111T150000
DTEND;TZID=Europe/Berlin:20260111T190000
DTSTAMP:20260424T114821
CREATED:20251211T170705Z
LAST-MODIFIED:20251211T170705Z
UID:13807-1768143600-1768158000@ffw-weilersbach.de
SUMMARY:Tag der Feuerwehr - Dienst - und Generalversammlung
DESCRIPTION:
URL:https://ffw-weilersbach.de/wordpress/event/tag-der-feuerwehr-dienst-und-generalversammlung
LOCATION:Gasthaus Hubert\, Germany
CATEGORIES:Versammlung
END:VEVENT
END:VCALENDAR